BEGIN:VCALENDAR
VERSION:2.0
PRODID:-//Teater Momentum - ECPv5.8.1//NONSGML v1.0//EN
CALSCALE:GREGORIAN
METHOD:PUBLISH
X-WR-CALNAME:Teater Momentum
X-ORIGINAL-URL:https://teatermomentum.dk
X-WR-CALDESC:Events for Teater Momentum
BEGIN:VTIMEZONE
TZID:Europe/Copenhagen
BEGIN:DAYLIGHT
TZOFFSETFROM:+0100
TZOFFSETTO:+0200
TZNAME:CEST
DTSTART:20230326T010000
END:DAYLIGHT
BEGIN:STANDARD
TZOFFSETFROM:+0200
TZOFFSETTO:+0100
TZNAME:CET
DTSTART:20231029T010000
END:STANDARD
END:VTIMEZONE
BEGIN:VEVENT
DTSTART;TZID=Europe/Copenhagen:20230429T190000
DTEND;TZID=Europe/Copenhagen:20230429T190000
DTSTAMP:20260422T143350
CREATED:20221117T141720Z
LAST-MODIFIED:20221117T141735Z
UID:23867-1682794800-1682794800@teatermomentum.dk
SUMMARY:Jakob Svendsen - Det burde jeg vide
DESCRIPTION:
URL:https://teatermomentum.dk/forestilling/jakob-svendsen-det-burde-jeg-vide/
END:VEVENT
END:VCALENDAR