BEGIN:VCALENDAR
VERSION:2.0
PRODID:-//Teater Momentum - ECPv5.8.1//NONSGML v1.0//EN
CALSCALE:GREGORIAN
METHOD:PUBLISH
X-WR-CALNAME:Teater Momentum
X-ORIGINAL-URL:https://teatermomentum.dk
X-WR-CALDESC:Events for Teater Momentum
BEGIN:VTIMEZONE
TZID:Europe/Copenhagen
BEGIN:DAYLIGHT
TZOFFSETFROM:+0100
TZOFFSETTO:+0200
TZNAME:CEST
DTSTART:20230326T010000
END:DAYLIGHT
BEGIN:STANDARD
TZOFFSETFROM:+0200
TZOFFSETTO:+0100
TZNAME:CET
DTSTART:20231029T010000
END:STANDARD
END:VTIMEZONE
BEGIN:VEVENT
DTSTART;TZID=Europe/Copenhagen:20230526T150000
DTEND;TZID=Europe/Copenhagen:20230528T020000
DTSTAMP:20260421T121717
CREATED:20230512T092132Z
LAST-MODIFIED:20230526T082145Z
UID:24712-1685113200-1685239200@teatermomentum.dk
SUMMARY:ILTER 2023
DESCRIPTION:
URL:https://teatermomentum.dk/forestilling/ilter-2023-2/
END:VEVENT
END:VCALENDAR